BEGIN:VCALENDAR
VERSION:2.0
PRODID:-//Hill Country Area of Narcotics Anonymous - ECPv6.15.20//NONSGML v1.0//EN
CALSCALE:GREGORIAN
METHOD:PUBLISH
X-WR-CALNAME:Hill Country Area of Narcotics Anonymous
X-ORIGINAL-URL:https://hillcountryna.org
X-WR-CALDESC:Events for Hill Country Area of Narcotics Anonymous
REFRESH-INTERVAL;VALUE=DURATION:PT1H
X-Robots-Tag:noindex
X-PUBLISHED-TTL:PT1H
BEGIN:VTIMEZONE
TZID:America/Chicago
BEGIN:DAYLIGHT
TZOFFSETFROM:-0600
TZOFFSETTO:-0500
TZNAME:CDT
DTSTART:20240310T080000
END:DAYLIGHT
BEGIN:STANDARD
TZOFFSETFROM:-0500
TZOFFSETTO:-0600
TZNAME:CST
DTSTART:20241103T070000
END:STANDARD
BEGIN:DAYLIGHT
TZOFFSETFROM:-0600
TZOFFSETTO:-0500
TZNAME:CDT
DTSTART:20250309T080000
END:DAYLIGHT
BEGIN:STANDARD
TZOFFSETFROM:-0500
TZOFFSETTO:-0600
TZNAME:CST
DTSTART:20251102T070000
END:STANDARD
BEGIN:DAYLIGHT
TZOFFSETFROM:-0600
TZOFFSETTO:-0500
TZNAME:CDT
DTSTART:20260308T080000
END:DAYLIGHT
BEGIN:STANDARD
TZOFFSETFROM:-0500
TZOFFSETTO:-0600
TZNAME:CST
DTSTART:20261101T070000
END:STANDARD
END:VTIMEZONE
BEGIN:VEVENT
DTSTART;VALUE=DATE:20250822
DTEND;VALUE=DATE:20250823
DTSTAMP:20260422T221741
CREATED:20230130T221853Z
LAST-MODIFIED:20230202T204643Z
UID:10001832-1755820800-1755907199@hillcountryna.org
SUMMARY:Lisa H.
DESCRIPTION:08/22/2016
URL:https://hillcountryna.org/event/lisa-h-2/2025-08-22/
CATEGORIES:Cleandate
END:VEVENT
BEGIN:VEVENT
DTSTART;VALUE=DATE:20250825
DTEND;VALUE=DATE:20250826
DTSTAMP:20260422T221741
CREATED:20230130T215524Z
LAST-MODIFIED:20230202T204609Z
UID:10001828-1756080000-1756166399@hillcountryna.org
SUMMARY:Kristen L.
DESCRIPTION:08/25/2020
URL:https://hillcountryna.org/event/kristen-l-2/2025-08-25/
CATEGORIES:Cleandate
END:VEVENT
BEGIN:VEVENT
DTSTART;VALUE=DATE:20250829
DTEND;VALUE=DATE:20250830
DTSTAMP:20260422T221741
CREATED:20230130T215505Z
LAST-MODIFIED:20230202T203825Z
UID:10001768-1756425600-1756511999@hillcountryna.org
SUMMARY:John W.
DESCRIPTION:08/29/2020
URL:https://hillcountryna.org/event/john-w-2/2025-08-29/
CATEGORIES:Cleandate
END:VEVENT
BEGIN:VEVENT
DTSTART;VALUE=DATE:20250831
DTEND;VALUE=DATE:20250901
DTSTAMP:20260422T221741
CREATED:20230115T234737Z
LAST-MODIFIED:20230202T215005Z
UID:10002168-1756598400-1756684799@hillcountryna.org
SUMMARY:Jack L.
DESCRIPTION:08/31/2013
URL:https://hillcountryna.org/event/jack-l/2025-08-31/
CATEGORIES:Cleandate
END:VEVENT
BEGIN:VEVENT
DTSTART;TZID=America/Chicago:20250831T180000
DTEND;TZID=America/Chicago:20250831T200000
DTSTAMP:20260422T221741
CREATED:20250814T000113Z
LAST-MODIFIED:20250814T000230Z
UID:10003736-1756663200-1756670400@hillcountryna.org
SUMMARY:Surrender To Win Speaker Night
DESCRIPTION:Come and join us for an inspiring evening at Surrender to Win – Speaker Night!Share food\, fellowship\, and an amazing message from Carolina S.\, whose story will motivate and uplift. This special gathering is open to all\, whether you’re seeking encouragement\, connection\, or simply a night of good company. \nWhen: Saturday\, August 31 • 6:00–8:00 PMWhere: 107 Veterans Drive\, Kyle\, TX 78640Bonus: Free pizza for all attendees! \nBring a friend\, bring your appetite\, and leave with a little more hope than you came with.
URL:https://hillcountryna.org/event/surrender-to-win-speaker-night/
LOCATION:VFW Kyle\, 107 Veterans Drive\, Kyle\, TX\, 78640\, United States
END:VEVENT
BEGIN:VEVENT
DTSTART;VALUE=DATE:20250903
DTEND;VALUE=DATE:20250904
DTSTAMP:20260422T221741
CREATED:20221202T012232Z
LAST-MODIFIED:20230202T225828Z
UID:10000006-1756857600-1756943999@hillcountryna.org
SUMMARY:California Steve
DESCRIPTION:9/3/90
URL:https://hillcountryna.org/event/california-steve/2025-09-03/
CATEGORIES:Cleandate
END:VEVENT
BEGIN:VEVENT
DTSTART;VALUE=DATE:20250904
DTEND;VALUE=DATE:20250905
DTSTAMP:20260422T221741
CREATED:20230115T235359Z
LAST-MODIFIED:20230202T215403Z
UID:10002205-1756944000-1757030399@hillcountryna.org
SUMMARY:Willie B.
DESCRIPTION:09/04/2006
URL:https://hillcountryna.org/event/willie-b/2025-09-04/
CATEGORIES:Cleandate
END:VEVENT
BEGIN:VEVENT
DTSTART;VALUE=DATE:20250905
DTEND;VALUE=DATE:20250906
DTSTAMP:20260422T221741
CREATED:20230130T215717Z
LAST-MODIFIED:20230202T204534Z
UID:10001824-1757030400-1757116799@hillcountryna.org
SUMMARY:Matt L.
DESCRIPTION:09/05/2019
URL:https://hillcountryna.org/event/matt-l-2/2025-09-05/
CATEGORIES:Cleandate
END:VEVENT
END:VCALENDAR