BEGIN:VCALENDAR
VERSION:2.0
PRODID:-//Hill Country Area of Narcotics Anonymous - ECPv6.15.20//NONSGML v1.0//EN
CALSCALE:GREGORIAN
METHOD:PUBLISH
X-WR-CALNAME:Hill Country Area of Narcotics Anonymous
X-ORIGINAL-URL:https://hillcountryna.org
X-WR-CALDESC:Events for Hill Country Area of Narcotics Anonymous
REFRESH-INTERVAL;VALUE=DURATION:PT1H
X-Robots-Tag:noindex
X-PUBLISHED-TTL:PT1H
BEGIN:VTIMEZONE
TZID:America/Chicago
BEGIN:DAYLIGHT
TZOFFSETFROM:-0600
TZOFFSETTO:-0500
TZNAME:CDT
DTSTART:20230312T080000
END:DAYLIGHT
BEGIN:STANDARD
TZOFFSETFROM:-0500
TZOFFSETTO:-0600
TZNAME:CST
DTSTART:20231105T070000
END:STANDARD
BEGIN:DAYLIGHT
TZOFFSETFROM:-0600
TZOFFSETTO:-0500
TZNAME:CDT
DTSTART:20240310T080000
END:DAYLIGHT
BEGIN:STANDARD
TZOFFSETFROM:-0500
TZOFFSETTO:-0600
TZNAME:CST
DTSTART:20241103T070000
END:STANDARD
BEGIN:DAYLIGHT
TZOFFSETFROM:-0600
TZOFFSETTO:-0500
TZNAME:CDT
DTSTART:20250309T080000
END:DAYLIGHT
BEGIN:STANDARD
TZOFFSETFROM:-0500
TZOFFSETTO:-0600
TZNAME:CST
DTSTART:20251102T070000
END:STANDARD
BEGIN:DAYLIGHT
TZOFFSETFROM:-0600
TZOFFSETTO:-0500
TZNAME:CDT
DTSTART:20260308T080000
END:DAYLIGHT
BEGIN:STANDARD
TZOFFSETFROM:-0500
TZOFFSETTO:-0600
TZNAME:CST
DTSTART:20261101T070000
END:STANDARD
END:VTIMEZONE
BEGIN:VEVENT
DTSTART;VALUE=DATE:20241110
DTEND;VALUE=DATE:20241111
DTSTAMP:20260421T054432
CREATED:20230130T221538Z
LAST-MODIFIED:20230202T204147Z
UID:10001791-1731196800-1731283199@hillcountryna.org
SUMMARY:Jared S.
DESCRIPTION:11/10/2016
URL:https://hillcountryna.org/event/jared-s-2/2024-11-10/
CATEGORIES:Cleandate
END:VEVENT
BEGIN:VEVENT
DTSTART;VALUE=DATE:20241113
DTEND;VALUE=DATE:20241114
DTSTAMP:20260421T054432
CREATED:20230116T012620Z
LAST-MODIFIED:20230202T212207Z
UID:10002000-1731456000-1731542399@hillcountryna.org
SUMMARY:Jesus C.
DESCRIPTION:11/13/2017
URL:https://hillcountryna.org/event/jesus-c/2024-11-13/
CATEGORIES:Cleandate
END:VEVENT
BEGIN:VEVENT
DTSTART;VALUE=DATE:20241115
DTEND;VALUE=DATE:20241116
DTSTAMP:20260421T054432
CREATED:20230202T220330Z
LAST-MODIFIED:20230202T220330Z
UID:10002295-1731628800-1731715199@hillcountryna.org
SUMMARY:Michael F.
DESCRIPTION:11/15/1997
URL:https://hillcountryna.org/event/michael-f-2/2024-11-15/
CATEGORIES:Cleandate
END:VEVENT
BEGIN:VEVENT
DTSTART;VALUE=DATE:20241115
DTEND;VALUE=DATE:20241116
DTSTAMP:20260421T054432
CREATED:20230130T221950Z
LAST-MODIFIED:20230202T204046Z
UID:10001783-1731628800-1731715199@hillcountryna.org
SUMMARY:Katie S.
DESCRIPTION:11/15/2015
URL:https://hillcountryna.org/event/katie-s-2/2024-11-15/
CATEGORIES:Cleandate
END:VEVENT
BEGIN:VEVENT
DTSTART;VALUE=DATE:20241116
DTEND;VALUE=DATE:20241117
DTSTAMP:20260421T054432
CREATED:20230130T220345Z
LAST-MODIFIED:20230202T204010Z
UID:10001779-1731715200-1731801599@hillcountryna.org
SUMMARY:Jason P.
DESCRIPTION:11/16/2018
URL:https://hillcountryna.org/event/jason-p-2/2024-11-16/
CATEGORIES:Cleandate
END:VEVENT
BEGIN:VEVENT
DTSTART;VALUE=DATE:20241119
DTEND;VALUE=DATE:20241120
DTSTAMP:20260421T054432
CREATED:20230130T215446Z
LAST-MODIFIED:20230202T203944Z
UID:10001775-1731974400-1732060799@hillcountryna.org
SUMMARY:Yogesh K.
DESCRIPTION:11/19/2020
URL:https://hillcountryna.org/event/yogesh-k-2/2024-11-19/
CATEGORIES:Cleandate
END:VEVENT
BEGIN:VEVENT
DTSTART;TZID=America/Chicago:20241123T150000
DTEND;TZID=America/Chicago:20241123T180000
DTSTAMP:20260421T054432
CREATED:20241117T204334Z
LAST-MODIFIED:20241117T204334Z
UID:10002858-1732374000-1732384800@hillcountryna.org
SUMMARY:Hill Country Area Gratitude Speaks Thanksgiving Dinner
DESCRIPTION:
URL:https://hillcountryna.org/event/hill-country-area-gratitude-speaks-thanksgiving-dinner/
LOCATION:UCM Wesley\, 510 N Guadalupe\, San Marcos\, 78666\, United States
CATEGORIES:Area
END:VEVENT
BEGIN:VEVENT
DTSTART;VALUE=DATE:20241128
DTEND;VALUE=DATE:20241129
DTSTAMP:20260421T054432
CREATED:20231102T162341Z
LAST-MODIFIED:20231102T162341Z
UID:10002483-1732752000-1732838399@hillcountryna.org
SUMMARY:Brian B12
DESCRIPTION:11/28/2017
URL:https://hillcountryna.org/event/brian-b12/2024-11-28/
CATEGORIES:Cleandate
END:VEVENT
BEGIN:VEVENT
DTSTART;VALUE=DATE:20241128
DTEND;VALUE=DATE:20241129
DTSTAMP:20260421T054432
CREATED:20230130T222207Z
LAST-MODIFIED:20230202T203858Z
UID:10001771-1732752000-1732838399@hillcountryna.org
SUMMARY:Paul D.
DESCRIPTION:11/28/2014
URL:https://hillcountryna.org/event/paul-d-2/2024-11-28/
CATEGORIES:Cleandate
END:VEVENT
BEGIN:VEVENT
DTSTART;VALUE=DATE:20241128
DTEND;VALUE=DATE:20241129
DTSTAMP:20260421T054432
CREATED:20230130T214928Z
LAST-MODIFIED:20230130T222539Z
UID:10001760-1732752000-1732838399@hillcountryna.org
SUMMARY:Chris R.
DESCRIPTION:11/28/2021
URL:https://hillcountryna.org/event/chris-r-2-2/2024-11-28/
CATEGORIES:Cleandate
END:VEVENT
BEGIN:VEVENT
DTSTART;TZID=America/Chicago:20241217T190000
DTEND;TZID=America/Chicago:20241217T220000
DTSTAMP:20260421T054432
CREATED:20241117T204717Z
LAST-MODIFIED:20241117T204743Z
UID:10002859-1734462000-1734472800@hillcountryna.org
SUMMARY:Freedom Group White Elephant and Potluck
DESCRIPTION:
URL:https://hillcountryna.org/event/freedom-group-white-elephant-and-potluck/
LOCATION:Peace Lutheran Church\, 1147 S Walnut St\, New Braunfels\, TX\, 78130\, United States
CATEGORIES:Area
END:VEVENT
BEGIN:VEVENT
DTSTART;VALUE=DATE:20241223
DTEND;VALUE=DATE:20241224
DTSTAMP:20260421T054432
CREATED:20221202T022142Z
LAST-MODIFIED:20230202T225659Z
UID:10000049-1734912000-1734998399@hillcountryna.org
SUMMARY:Vanessa D.
DESCRIPTION:12/23/2015
URL:https://hillcountryna.org/event/vanessa-d/2024-12-23/
CATEGORIES:Cleandate
END:VEVENT
BEGIN:VEVENT
DTSTART;VALUE=DATE:20241231
DTEND;VALUE=DATE:20250101
DTSTAMP:20260421T054432
CREATED:20221202T021518Z
LAST-MODIFIED:20230202T230015Z
UID:10000044-1735603200-1735689599@hillcountryna.org
SUMMARY:Kristin A.
DESCRIPTION:12/31/2021
URL:https://hillcountryna.org/event/kristin-a/2024-12-31/
CATEGORIES:Cleandate
END:VEVENT
BEGIN:VEVENT
DTSTART;VALUE=DATE:20250101
DTEND;VALUE=DATE:20250102
DTSTAMP:20260421T054432
CREATED:20221202T021401Z
LAST-MODIFIED:20230202T230105Z
UID:10000039-1735689600-1735775999@hillcountryna.org
SUMMARY:Rachel L.
DESCRIPTION:1/1/2020
URL:https://hillcountryna.org/event/rachel-l/2025-01-01/
CATEGORIES:Cleandate
END:VEVENT
BEGIN:VEVENT
DTSTART;VALUE=DATE:20250101
DTEND;VALUE=DATE:20250102
DTSTAMP:20260421T054432
CREATED:20221202T015612Z
LAST-MODIFIED:20230202T225753Z
UID:10000018-1735689600-1735775999@hillcountryna.org
SUMMARY:Bam R.
DESCRIPTION:1/1/85
URL:https://hillcountryna.org/event/bam-r/2025-01-01/
CATEGORIES:Cleandate
END:VEVENT
BEGIN:VEVENT
DTSTART;VALUE=DATE:20250108
DTEND;VALUE=DATE:20250109
DTSTAMP:20260421T054432
CREATED:20221202T021309Z
LAST-MODIFIED:20230202T225952Z
UID:10000034-1736294400-1736380799@hillcountryna.org
SUMMARY:Jolene H.
DESCRIPTION:1/8/2020
URL:https://hillcountryna.org/event/jolene-h/2025-01-08/
CATEGORIES:Cleandate
END:VEVENT
END:VCALENDAR